BEGIN:VCALENDAR
VERSION:2.0
PRODID:-//ChamberMaster//Event Calendar 2.0//EN
METHOD:PUBLISH
X-PUBLISHED-TTL:P3D
REFRESH-INTERVAL:P3D
CALSCALE:GREGORIAN
BEGIN:VEVENT
DTSTART:20210513T170000Z
DTEND:20210513T180000Z
X-MICROSOFT-CDO-ALLDAYEVENT:FALSE
SUMMARY:YP Crucial Conversation Series: LGBTQIA Awareness and Allyship
DESCRIPTION:PFLAG's President\, Patrick Neuenfeldt\, joined us during our first Crucial Conversation series to speak about LGBTQIA Awareness and Allyship. He's back to dive deeper into the topic with PFLAG's Vice President\, Megan Marchant.\n\n\n\n\n\nThe Young Professionals of Manitowoc County (YPs) Crucial Conversation series provides a venue to inform and educate our community by hosting speakers on topics important to our members. Opinions expressed by speakers do not necessarily reflect the position of the The Chamber of Manitowoc County or its members.
X-ALT-DESC;FMTTYPE=text/html:<span style="font-size:12px\;"><span style="font-family:arial\;">PFLAG&#39\;s President\, Patrick Neuenfeldt\, joined us during our first Crucial Conversation series to speak about LGBTQIA Awareness and Allyship. He&#39\;s back to dive deeper into the topic with PFLAG&#39\;s Vice President\, Megan Marchant.<br />\n<br />\n<br />\nThe Young Professionals of Manitowoc County (YPs) Crucial Conversation series provides a venue to inform and educate our community by hosting speakers on topics important to our members. Opinions expressed by speakers do not necessarily reflect the position of the The Chamber of Manitowoc County or its members.</span></span><br />\n<br />\n&nbsp\;
LOCATION:Via Zoom
UID:e.361.15926
SEQUENCE:3
DTSTAMP:20260424T153102Z
URL:https://business.chambermanitowoccounty.org/events/details/yp-crucial-conversation-series-lgbtqia-awareness-and-allyship-15926
END:VEVENT

END:VCALENDAR
