BEGIN:VCALENDAR
VERSION:2.0
PRODID:-//ChamberMaster//Event Calendar 2.0//EN
METHOD:PUBLISH
X-PUBLISHED-TTL:P3D
REFRESH-INTERVAL:P3D
CALSCALE:GREGORIAN
BEGIN:VEVENT
DTSTART:20220425T170000Z
DTEND:20220425T180000Z
X-MICROSOFT-CDO-ALLDAYEVENT:FALSE
SUMMARY:YP GROW: Financial Planning Basics
DESCRIPTION:Join Joseph Jost\, Financial Advisor at Skylight Wealth Management\, for a presentation focusing on retirement planning and breaking down the basics of planning for your financial future.
X-ALT-DESC;FMTTYPE=text/html:<span style="font-family:calibri\,sans-serif\;"><span style="font-size:11.0pt\;">Join Joseph Jost\, Financial Advisor at Skylight Wealth Management\, for a presentation focusing on retirement planning and breaking down the basics of planning for your financial future.</span></span>
LOCATION:Via Zoom You will receive Zoom link in confirmation email. Registration is requred.
UID:e.361.17861
SEQUENCE:3
DTSTAMP:20260421T113239Z
URL:https://business.chambermanitowoccounty.org/events/details/yp-grow-financial-planning-basics-17861
END:VEVENT

END:VCALENDAR
