BEGIN:VCALENDAR
VERSION:2.0
PRODID:-//ChamberMaster//Event Calendar 2.0//EN
METHOD:PUBLISH
X-PUBLISHED-TTL:P3D
REFRESH-INTERVAL:P3D
CALSCALE:GREGORIAN
BEGIN:VEVENT
DTSTART:20181114T230000Z
DTEND:20181115T003000Z
X-MICROSOFT-CDO-ALLDAYEVENT:FALSE
SUMMARY:YP Grow-GKN Sinter Metals Tours
DESCRIPTION:GKN Sinter Metals   Manitowoc is a manufacturer of powder metal components for the automotive industry. The Manitowoc location has 75 team members dedicated to a safety-conscious work environment while producing high quality products. Globally GKN Sinter Metals is the world's leading supplier of metal powder precision components. On a global level production and sales employs 6\,500 team members with over 30 facilities on five continents.\n\n \n\nCome learn about GKN Sinter Metals at Young Professionals of Manitowoc County Backstage Pass.
X-ALT-DESC;FMTTYPE=text/html:GKN Sinter Metals &ndash\; Manitowoc is a manufacturer of powder metal components for the automotive industry. The Manitowoc location has 75 team members dedicated to a safety-conscious work environment while producing high quality products. Globally GKN Sinter Metals is the world&rsquo\;s leading supplier of metal powder precision components. On a global level production and sales employs 6\,500 team members with over 30 facilities on five continents.<br />\n&nbsp\;<br />\nCome learn about GKN Sinter Metals at Young Professionals of Manitowoc County Backstage Pass.
LOCATION:GKN Sinter Metals 5710 Vits Dr Manitowoc
UID:e.361.13574
SEQUENCE:3
DTSTAMP:20260426T032421Z
URL:https://business.chambermanitowoccounty.org/events/details/yp-grow-gkn-sinter-metals-tours-13574
END:VEVENT

END:VCALENDAR
