BEGIN:VCALENDAR
VERSION:2.0
PRODID:-//ChamberMaster//Event Calendar 2.0//EN
METHOD:PUBLISH
X-PUBLISHED-TTL:P3D
REFRESH-INTERVAL:P3D
CALSCALE:GREGORIAN
BEGIN:VEVENT
DTSTART:20220223T180000Z
DTEND:20220223T184500Z
X-MICROSOFT-CDO-ALLDAYEVENT:FALSE
SUMMARY:YP Grow: Taxes 101
DESCRIPTION:Join Scott Stuckmann and Josh Thompson for an overview of individual income taxes. This session is primarily meant for taxpayers who are employees of a business or organization (not-self employed or business owners). Topics will include types of income subject to tax\, discussion of different wage withholdings & their effect on taxes\, calculation of tax\, and common tax credits.
X-ALT-DESC;FMTTYPE=text/html:<p font-size:="" new="" style="color: rgb(0\, 0\, 0)\; font-family: " times=""><span style="font-size:14px\;"><span style="font-family:arial\;">Join Scott Stuckmann and Josh Thompson for an overview of individual income taxes. This session is primarily meant for taxpayers who are employees of a business or organization (not-self employed or business owners). Topics will include types of income subject to tax\, discussion of different wage withholdings &amp\; their effect on taxes\, calculation of tax\, and common tax credits.</span></span></p>\n
LOCATION:Via Zoom
UID:e.361.17252
SEQUENCE:3
DTSTAMP:20260422T160943Z
URL:https://business.chambermanitowoccounty.org/events/details/yp-grow-taxes-101-17252
END:VEVENT

END:VCALENDAR
