BEGIN:VCALENDAR
VERSION:2.0
PRODID:-//ChamberMaster//Event Calendar 2.0//EN
METHOD:PUBLISH
X-PUBLISHED-TTL:P3D
REFRESH-INTERVAL:P3D
CALSCALE:GREGORIAN
BEGIN:VEVENT
DTSTART:20220612T121500Z
DTEND:20220612T170000Z
X-MICROSOFT-CDO-ALLDAYEVENT:FALSE
SUMMARY:YP MONTH: Breakfast on the Farm Volunteer Event
DESCRIPTION:As a part of YP MONTH\, join Young Professionals of Manitowoc County as we volunteer at Manitowoc County's Breakfast on the Farm.  Every June\, farms across Wisconsin open their doors to the public to join them for breakfast. These events are a great way to promote the Dairy industry and are a fun way to celebrate June as Dairy Month in Wisconsin. Manitowoc County's Breakfast on the Farm will be held on Sunday\, June 12\, 2022\, from 8AM-12PM at Grotegut Dairy Farm\, Newton.  The event is coordinated by the Manitowoc County Dairy Promotion Committee. \n\n\n\nVOLUNTEER OPPORTUNITIES:\n\nThere are several volunteer opportunities available.  All volunteer shifts must be secured through the Manitowoc County Dairy Promotion Committee's Sign Up Genius Form.  (See Instructions below.)  All volunteers receive a complimentary breakfast.  Any volunteers under the age of 12 should be accompanied by an adult.\n\n\n\nT-SHIRTS\n\nAll YPs (and family members) that sign up to volunteer receive a FREE Young Professionals of Manitowoc County t-shirt to wear while volunteering. T-Shirts will be available for pickup at The Chamber office\, 1515 Memorial Dr.\, Manitowoc\, June 6-9\, 8:00am-4:30 PM.  (Please note that while we unfortunately do not have youth sizes\, we have a great deal of Adult Small sized t-shirts available!)\n\n\n\nHOW TO REGISTER:\n\n	Sign up for a shift using the official Breakfast on the Farm Sign Up Genius Form with the Manitowoc County Dairy Promotion Committee. All volunteer sign ups must be done through this page. \n	Once your shift is secured\, Register Online through this event page to reserve your T-Shirt. \n\n\n\nWhat is YP MONTH?\n\nYP MONTH is a dedicated month of programming to celebrate young professionals in our community. This annual tradition\, hosted in June of each year\, specifically looks to target new graduates\, interns\, and foster excitement among the young professionals in our community. Though YP MONTH events are geared towards YPs\, they are open to all Chamber members attend\, and not just exclusively Young Professionals.
X-ALT-DESC;FMTTYPE=text/html:As a part of YP MONTH\, join <strong>Young Professionals of Manitowoc County </strong>as we volunteer at <strong>Manitowoc County&#39\;s Breakfast on the Farm</strong>.&nbsp\;&nbsp\;Every June\, farms across Wisconsin open their doors to the public to join them for breakfast. These events are a great way to promote the Dairy industry and are a fun way to celebrate June as Dairy Month in Wisconsin. Manitowoc County&#39\;s Breakfast on the Farm will be held on <strong>Sunday\, June 12\, 2022</strong>\, from 8AM-12PM at Grotegut Dairy Farm\, Newton.&nbsp\; The event is coordinated by the Manitowoc County Dairy Promotion Committee.&nbsp\;<br />\n<br />\n<u><strong>VOLUNTEER OPPORTUNITIES:</strong></u><br />\nThere are several volunteer opportunities available.&nbsp\; All volunteer shifts must be secured through the Manitowoc County Dairy Promotion Committee&#39\;s Sign Up Genius Form.&nbsp\; (See Instructions below.)&nbsp\; All volunteers receive a complimentary breakfast.&nbsp\; Any volunteers under the age of 12 should be accompanied by an adult.<br />\n<br />\n<u><strong>T-SHIRTS</strong></u><br />\nAll YPs (and family members) that sign up to volunteer receive a FREE Young Professionals of Manitowoc County t-shirt to wear while volunteering. T-Shirts will be available for pickup at The Chamber office\, 1515 Memorial Dr.\, Manitowoc\, June 6-9\, 8:00am-4:30 PM.&nbsp\; (Please note that while we unfortunately do not have youth sizes\, we have a great deal of Adult Small sized t-shirts available!)<br />\n<br />\n<u><strong>HOW TO REGISTER:</strong></u>\n<ol>\n	<li>Sign up for a shift&nbsp\;using the official <a href="https://www.signupgenius.com/go/60b0e49a4ab2aa4fc1-breakfast"><u><strong>Breakfast on the Farm Sign Up Genius Form</strong></u></a>&nbsp\;with the Manitowoc County Dairy Promotion Committee. All volunteer sign ups must be done through&nbsp\;this page.&nbsp\;</li>\n	<li>Once your shift is secured\, Register Online through this event page to reserve your T-Shirt.&nbsp\;</li>\n</ol>\n<br />\n<u><strong>What is YP MONTH?</strong></u><br />\nYP MONTH is a dedicated month of programming to celebrate young professionals in our community. This annual tradition\, hosted in June of each year\, specifically looks to target new graduates\, interns\, and foster excitement among the young professionals in our community.&nbsp\;Though&nbsp\;YP MONTH events are geared towards YPs\, they are open to all Chamber members attend\, and not just exclusively Young Professionals.&nbsp\;
LOCATION:Grotegut Dairy Farm 7427 Newton Rd. Newton\, WI 53063
UID:e.361.17911
SEQUENCE:3
DTSTAMP:20260420T094213Z
URL:https://business.chambermanitowoccounty.org/events/details/yp-month-breakfast-on-the-farm-volunteer-event-17911
END:VEVENT

END:VCALENDAR
