BEGIN:VCALENDAR
VERSION:2.0
PRODID:-//ChamberMaster//Event Calendar 2.0//EN
METHOD:PUBLISH
X-PUBLISHED-TTL:P3D
REFRESH-INTERVAL:P3D
CALSCALE:GREGORIAN
BEGIN:VEVENT
DTSTART:20220607T220000Z
DTEND:20220608T000000Z
X-MICROSOFT-CDO-ALLDAYEVENT:FALSE
SUMMARY:YP MONTH: Connect at The Wharf
DESCRIPTION:Join us to kick off YP MONTH as we Connect at The Wharf.\n\n\n\nThere will be ample opportunities for networking\, bags-tossing\, fun giveaways and prizes\, cash bar and complimentary appetizers - all along the beautiful waterfront. \n\n\n\nWhat is YP MONTH?\n\nYP Month is a dedicated month of programming to celebrate young professionals in our community. This annual tradition\, hosted in June of each year\, specifically looks to target new graduates\, interns\, and foster excitement among the young professionals in our community. Though YP MONTH events are geared towards YPs\, they are open to all Chamber members attend\, and not just exclusively Young Professionals.
X-ALT-DESC;FMTTYPE=text/html:Join us to kick off <strong>YP MONTH</strong>&nbsp\;as we <strong>Connect at The Wharf</strong>.<br />\n<br />\nThere will be ample opportunities for networking\, bags-tossing\, fun giveaways and prizes\, cash bar and complimentary appetizers - all along the beautiful waterfront.&nbsp\;<br />\n<br />\n<u><strong>What is YP MONTH?</strong></u><br />\nYP Month is a dedicated month of programming to celebrate young professionals in our community. This annual tradition\, hosted in June of each year\, specifically looks to target new graduates\, interns\, and foster excitement among the young professionals in our community. Though&nbsp\;YP MONTH events are geared towards YPs\, they are open to all Chamber members attend\, and not just exclusively Young Professionals.&nbsp\;<br />\n<br />\n&nbsp\;
LOCATION:The Wharf 606 Quay St. Manitowoc
UID:e.361.17912
SEQUENCE:3
DTSTAMP:20260420T093955Z
URL:https://business.chambermanitowoccounty.org/events/details/yp-month-connect-at-the-wharf-17912
END:VEVENT

END:VCALENDAR
